BEGIN:VCALENDAR
VERSION:2.0
PRODID:-//Idstein bleibt bunt - ECPv6.15.20//NONSGML v1.0//EN
CALSCALE:GREGORIAN
METHOD:PUBLISH
X-ORIGINAL-URL:https://www.idstein-bleibt-bunt.de
X-WR-CALDESC:Veranstaltungen für Idstein bleibt bunt
REFRESH-INTERVAL;VALUE=DURATION:PT1H
X-Robots-Tag:noindex
X-PUBLISHED-TTL:PT1H
BEGIN:VTIMEZONE
TZID:Europe/Berlin
BEGIN:DAYLIGHT
TZOFFSETFROM:+0100
TZOFFSETTO:+0200
TZNAME:CEST
DTSTART:20250330T010000
END:DAYLIGHT
BEGIN:STANDARD
TZOFFSETFROM:+0200
TZOFFSETTO:+0100
TZNAME:CET
DTSTART:20251026T010000
END:STANDARD
BEGIN:DAYLIGHT
TZOFFSETFROM:+0100
TZOFFSETTO:+0200
TZNAME:CEST
DTSTART:20260329T010000
END:DAYLIGHT
BEGIN:STANDARD
TZOFFSETFROM:+0200
TZOFFSETTO:+0100
TZNAME:CET
DTSTART:20261025T010000
END:STANDARD
BEGIN:DAYLIGHT
TZOFFSETFROM:+0100
TZOFFSETTO:+0200
TZNAME:CEST
DTSTART:20270328T010000
END:DAYLIGHT
BEGIN:STANDARD
TZOFFSETFROM:+0200
TZOFFSETTO:+0100
TZNAME:CET
DTSTART:20271031T010000
END:STANDARD
END:VTIMEZONE
BEGIN:VEVENT
DTSTART;TZID=Europe/Berlin:20260305T143000
DTEND;TZID=Europe/Berlin:20260305T163000
DTSTAMP:20260421T113154
CREATED:20260223T111441Z
LAST-MODIFIED:20260223T111441Z
UID:8399-1772721000-1772728200@www.idstein-bleibt-bunt.de
SUMMARY:„Umweltpaten.Idstein“ stellen sich vor
DESCRIPTION:Herzliche Einladung zum WIR-Café  \nFür Menschen mit Integrations- und/oder Inklusionshintergrund sowie interessierte Bürgerinnen und Bürger in Idstein  \n\n\n\nDie „Umweltpaten.Idstein“ sind ein Zusammenschluss Idsteiner Bürgerinnen und Bürger\, die der Müll in der Stadt sowie in der Natur stört und die aktiv gegen die zunehmende Vermüllung etwas tun möchten. Das achtlose Wegwerfen sowie das illegale Entsorgen von Abfällen in der Natur und im öffentlichen Raum verursacht massive Schäden im Ökosystem.  \nDie „Umweltpaten.Idstein“ engagieren sich sowohl für den Naturschutz\, verstehen sich aber auch als Botschafterinnen und Botschafter\, die mit ihren Aktionen auf das Thema der Vermüllung aufmerksam machen möchten. Unter dem Motto: „Global denken\, lokal handeln“ stehen die „Umweltpaten.Idstein“ dafür ein\, die Umwelt als Lebensgrundlage nachhaltig zu bewahren\, um den nachfolgenden Generationen eine lebenswerte Umgebung zu hinterlassen. In ihrem Vortrag im Haus der Begegnung geben die engagierten Ehrenamtlichen u.a. darüber Auskunft\, was ein Revierpate ist und wie man bei den „Umweltpaten.Idstein“ aktiv werden kann.  \n\n\n\nDas Amt für Soziales\, Jugend und Sport  \nBüro für SIE – Senioren\, Integration und Ehrenamt freut sich auf Sie! \nKontakt: Tel. 06126 78-313 oder -314\, E-Mail: ehrenamt@idstein.de
URL:https://www.idstein-bleibt-bunt.de/termin/umweltpaten-idstein-stellen-sich-vor/
LOCATION:Haus der Begegnung\, Schulgasse 7\, Idstein\, 65510
ATTACH;FMTTYPE=image/png:https://www.idstein-bleibt-bunt.de/wp-content/uploads/2026/02/wircafe-2026-02-23-um-12.12.02.png
ORGANIZER;CN="Amt f%C3%BCr Soziales%2C Jugend und Sport":MAILTO:ehrenamt@idstein.de
END:VEVENT
BEGIN:VEVENT
DTSTART;TZID=Europe/Berlin:20260306T170000
DTEND;TZID=Europe/Berlin:20260306T180000
DTSTAMP:20260421T113154
CREATED:20260226T113924Z
LAST-MODIFIED:20260226T113924Z
UID:8427-1772816400-1772820000@www.idstein-bleibt-bunt.de
SUMMARY:Zum Internationalen Frauentag 2026: Vortrag "Frauen\, Macht und Fairer Handel"
DESCRIPTION:Ein Vortrag von Christine Feiler – Fair-Handels-Beraterin \nWorum geht es? \n„Frauen\, Macht und Fairer Handel“ zeigt anhand anschaulicher Beispiele\, wie Handelsstrukturen\, im Fairen Handel\, gezielt Frauenrechte fördern und Selbstbestimmung ermöglichen. \nNach dem Vortrag laden wir herzlich zu einem Glas Wein und Snacks ein. Nutzen Sie die Gelegenheit zum Austausch und Gespräch im Weltladen. \nWir freuen uns auf Ihr Kommen! \nWeltladen Idstein eG Schulze-Delitzsch-Straße 10 65510 Idstein \nTel.: 06126 9573062 \ninfo@weltladen-idstein.de \nwww.weltladen-idstein.de \nAlle Angebote gültig solange der Vorrat reicht. Keine Haftung für Irrtümer.
URL:https://www.idstein-bleibt-bunt.de/termin/zum-internationalen-frauentag-2026-vortrag-frauen-macht-und-fairer-handel/
LOCATION:Weltladen Idstein\, Schulze-Delitzsch-Straße 10\, Idstein\, 65510
ORGANIZER;CN="Weltladen Idstein eG":MAILTO:info@weltladen-idstein.de
END:VEVENT
BEGIN:VEVENT
DTSTART;TZID=Europe/Berlin:20260314T110000
DTEND;TZID=Europe/Berlin:20260314T120000
DTSTAMP:20260421T113154
CREATED:20260306T072508Z
LAST-MODIFIED:20260306T072508Z
UID:8435-1773486000-1773489600@www.idstein-bleibt-bunt.de
SUMMARY:Kundgebung Jung und Alt für Demokratie\, Vielfalt\, Menschlichkeit und Solidarisches Miteinander
DESCRIPTION:
URL:https://www.idstein-bleibt-bunt.de/termin/kundgebung-jung-und-alt-fuer-demokratie-vielfalt-menschlichkeit-und-solidarisches-miteinander/
LOCATION:Innenstadt – Rathaus\, König-Adolf-Platz\, Idstein\, Hessen\, 65510\, Deutschland
CATEGORIES:Demonstration,Mahnwache,Netzwerkpartner
ATTACH;FMTTYPE=image/jpeg:https://www.idstein-bleibt-bunt.de/wp-content/uploads/2024/08/2026-OgR.jpg
END:VEVENT
BEGIN:VEVENT
DTSTART;TZID=Europe/Berlin:20260328T150000
DTEND;TZID=Europe/Berlin:20260328T170000
DTSTAMP:20260421T113154
CREATED:20260223T134831Z
LAST-MODIFIED:20260223T134831Z
UID:8411-1774710000-1774717200@www.idstein-bleibt-bunt.de
SUMMARY:Gedenkveranstaltung zum 81. Jahrestag der Befreiung
DESCRIPTION:Gedenkveranstaltung zum 81. Jahrestag der Befreiung \nam 28. März 1945 beendete der Einmarsch US-amerikanischer Truppen die nationalsozialistische „Euthanasie“ auf dem Kalmenhof in Idstein. Anlässlich des 81. Jahrestages laden der Gedenk- und Lernort Kalmenhof und Vitos Teilhabe herzlich zu unserer Gedenkveranstaltung ein. Sie findet am 28. März 2026 um 15:00 Uhr im Saal des Verwaltungsgebäudes der Vitos Teilhabe\, Veitenmühlweg 10\, 65510 Idstein\, statt. \nIm Mittelpunkt der Gedenkveranstaltung steht das individuelle Gedenken an die Verfolgten und Ermordeten der NS-„Euthanasie“. Gertrude Henn wird einen Einblick in die Lebensgeschichte ihrer Familienangehörigen bieten\, die während der nationalsozialistischen „Euthanasie“ in der ehemaligen Heilerziehungsanstalt Kalmenhof und der Tötungsanstalt Hadamar ermordet wurden. \nWir würden uns darüber freuen\, Sie am 28. März 2026 als unsere Gäste willkommen heißen zu dürfen und erbitten Ihre Anmeldung bis zum 25. März 2026 per E-Mail an gedenkort-lernort-kalmenhof@lwv-hessen.de oder telefonisch unter 06433/91845-01. Gerne können Sie diese Einladung an Interessierte weiterleiten.  \nDie Gedenkstätte Hadamar ist mit dem Aufbau des Gedenk- und Lernortes Kalmenhof betraut. Daher würde ich mich sehr darüber freuen\, Sie an diesem Tag begrüßen zu dürfen und verleibe bis dahin \nIm Namen der Veranstalter  \nmit freundlichen Grüßen \nProf. Dr. Jan Erik Schulte \nLeiter der Gedenkstätte Hadamar und des Fachbereichs Archiv\, Gedenkstätten\, \nHistorische Sammlungen des LWV Hessen \nGedenk- und Lernort Kalmenhof\nauf dem Gelände der Vitos Teilhabe gGmbH\nVeitenmühlweg 10 | 65510 Idstein\nTel. +49 (0) 6433 91 845 32\nwww.gedenk-und-lernort-kalmenhof.de\nwww.gedenkstaette-hadamar.de \nDer Gedenk- und Lernort Kalmenhof wird betrieben von der\nGedenkstätte Hadamar\nMönchberg 11 | 65589 Hadamar\nwww.gedenkstaette-hadamar.de\nBesuchen Sie gerne auch unsere Facebook-Seite
URL:https://www.idstein-bleibt-bunt.de/termin/gedenkveranstaltung-zum-81-jahrestag-der-befreiung/
LOCATION:Kalmenhof Idstein\, Veitenmühlweg 10\, Idstein\, 65510
ATTACH;FMTTYPE=image/png:https://www.idstein-bleibt-bunt.de/wp-content/uploads/2026/02/kalmenhof-2026-02-23-scaled.png
ORGANIZER;CN="Gedenkort Kalmenhof":MAILTO:info@gedenkort-kalmenhof.de
END:VEVENT
END:VCALENDAR