BEGIN:VCALENDAR
VERSION:2.0
PRODID:-//Idstein bleibt bunt - ECPv6.15.20//NONSGML v1.0//EN
CALSCALE:GREGORIAN
METHOD:PUBLISH
X-WR-CALNAME:Idstein bleibt bunt
X-ORIGINAL-URL:https://www.idstein-bleibt-bunt.de
X-WR-CALDESC:Veranstaltungen für Idstein bleibt bunt
REFRESH-INTERVAL;VALUE=DURATION:PT1H
X-Robots-Tag:noindex
X-PUBLISHED-TTL:PT1H
BEGIN:VTIMEZONE
TZID:Europe/Berlin
BEGIN:DAYLIGHT
TZOFFSETFROM:+0100
TZOFFSETTO:+0200
TZNAME:CEST
DTSTART:20230326T010000
END:DAYLIGHT
BEGIN:STANDARD
TZOFFSETFROM:+0200
TZOFFSETTO:+0100
TZNAME:CET
DTSTART:20231029T010000
END:STANDARD
BEGIN:DAYLIGHT
TZOFFSETFROM:+0100
TZOFFSETTO:+0200
TZNAME:CEST
DTSTART:20240331T010000
END:DAYLIGHT
BEGIN:STANDARD
TZOFFSETFROM:+0200
TZOFFSETTO:+0100
TZNAME:CET
DTSTART:20241027T010000
END:STANDARD
BEGIN:DAYLIGHT
TZOFFSETFROM:+0100
TZOFFSETTO:+0200
TZNAME:CEST
DTSTART:20250330T010000
END:DAYLIGHT
BEGIN:STANDARD
TZOFFSETFROM:+0200
TZOFFSETTO:+0100
TZNAME:CET
DTSTART:20251026T010000
END:STANDARD
END:VTIMEZONE
BEGIN:VEVENT
DTSTART;TZID=Europe/Berlin:20240922T150000
DTEND;TZID=Europe/Berlin:20240922T170000
DTSTAMP:20260422T031457
CREATED:20240902T115749Z
LAST-MODIFIED:20240923T132133Z
UID:7473-1727017200-1727024400@www.idstein-bleibt-bunt.de
SUMMARY:Musik im Bürgergarten
DESCRIPTION:Musik\, die direkt ins Herz geht \nGenießen Sie zwei Stunden im grünen »Raum« . Anja Meyer aus Limburg und Peter Weihrauch aus Idstein musizieren seit 2015 zusammen; Anja bringt musikalisch überwiegend modernere Einflüsse der letzten 20 Jahre mit ein\, während Peter sich zwischen den 50ern und 80ern wohler fühlt. Sie werden Ihnen aber nicht nur Coversongs\, sondern auch eigene Kompositionen darbieten. \nBeide kennen Sie vielleicht schon von ihren Auftritten in einigen Idsteiner Lokalen und Bars. Anmeldungen sind nicht erforderlich\, Sitzgelegenheiten bringen Sie bitte selbst mit! Gerne können sie sich auch Ihre Verpflegung mitbringen. \nDer Bürgergarten befindet sich zwischen Schlossteich und Wörsbachaue\, ganz in der Nähe unseres Büros. \nDer Eintritt ist frei – Spenden für das Musikerduo sind willkommen
URL:https://www.idstein-bleibt-bunt.de/termin/musik-im-buergergarten/
LOCATION:Bürgergarten\, Saalburgweg 12\, Idstein\, 65510
CATEGORIES:Ausstellung,Essen
ORGANIZER;CN="B%C3%BCrgergartengesellschaft e.V. Idstein":MAILTO:info@buergergartengesellschaft.de
END:VEVENT
END:VCALENDAR